BEGIN:VCALENDAR
VERSION:2.0
PRODID:-//eventon.com NONSGML v1.0//EN
CALSCALE:GREGORIAN
METHOD:PUBLISH
BEGIN:VEVENT
UID:69e7431a4129e
DTSTAMP:20260421T092754Z
DTSTART:20240306T010000Z
DTEND:20240306T020000Z
LOCATION:https://aceedu.zoom.us/webinar/register/6215816053127/WN_O_iz-WZsSryCxMlriyfOhw
SUMMARY:Live Q & A Session
DESCRIPTION:Join us for a live Q&amp;A session with ACE experts. Get your q
 uestions answered on doctoral and specialist programs\,  cost\,  student ex
 perience and more. Find out everything you need to know to decide if Americ
 an College of Education is right for you.\nhttps://ace.edu/events/live-q-a-
 session-march24/
URL:https://ace.edu/events/live-q-a-session-march24/
END:VEVENT
END:VCALENDAR